BEGIN:VCALENDAR
VERSION:2.0
PRODID:-//eventon.com NONSGML v1.0//EN
CALSCALE:GREGORIAN
METHOD:PUBLISH
BEGIN:VEVENT
UID:69e72c300df4b
DTSTAMP:20260421T075008Z
DTSTART:20260310T160000Z
DTEND:20260310T170000Z
LOCATION:
SUMMARY:CAREER DEVELOPMENT SERIES – Real Talk\,  Real Growth: Fostering Professionalism Without Perfectionism
DESCRIPTION:For the 2025-2026 school year\,  SOCHE will host a special Care
 er Development Series of virtual presentations that is designed to support 
 higher education personnel as they help develop the Workforce of Tomorrow. 
 The fourth session of the SOCHE Career Development Series will be “Real T
 alk\,  Real Growth: Fostering Professionalism Without[..]\nhttps://www.soch
 e.org/event/career-dev-fostering-professionalism-without-perfectionism/
URL:https://www.soche.org/event/career-dev-fostering-professionalism-without-perfectionism/
END:VEVENT
END:VCALENDAR