BEGIN:VCALENDAR
VERSION:2.0
PRODID:-//eventon.com NONSGML v1.0//EN
CALSCALE:GREGORIAN
METHOD:PUBLISH
BEGIN:VEVENT
UID:69e72d14af0e8
DTSTAMP:20260421T075356Z
DTSTART:20260218T170000Z
DTEND:20260218T180000Z
LOCATION:
SUMMARY:CAREER DEVELOPMENT SERIES – Helping Academically Underperforming Students Land Great Jobs: Strategy for Success
DESCRIPTION:For the 2025-2026 school year\,  SOCHE will host a special Care
 er Development Series of virtual presentations that is designed to support 
 higher education personnel as they help develop the Workforce of Tomorrow. 
 The third session of the SOCHE Career Development Series will be “Helping
  Academically Underperforming Students Land Great Jobs:[..]\nhttps://www.so
 che.org/event/career-dev-helping-academically-underperforming-students-land
 -jobs/
URL:https://www.soche.org/event/career-dev-helping-academically-underperforming-students-land-jobs/
END:VEVENT
END:VCALENDAR