BEGIN:VCALENDAR
VERSION:2.0
PRODID:-//eventon.com NONSGML v1.0//EN
CALSCALE:GREGORIAN
METHOD:PUBLISH
BEGIN:VEVENT
UID:69e72cadac51f
DTSTAMP:20260421T075213Z
DTSTART:20251113T170000Z
DTEND:20251113T180000Z
LOCATION:
SUMMARY:CAREER DEVELOPMENT SERIES – Empowering Faculty to Champion Career Readiness
DESCRIPTION:For the 2025-2026 school year\,  SOCHE will host a special Care
 er Development Series of virtual presentations that is designed to support 
 higher education personnel as they help develop the Workforce of Tomorrow. 
 The second session of the SOCHE Career Development Series will be “Empowe
 ring Faculty to Champion Career Readiness\, ” hosted[..]\nhttps://www.soc
 he.org/event/career-dev-empowering-faculty-champion-career-readiness/
URL:https://www.soche.org/event/career-dev-empowering-faculty-champion-career-readiness/
END:VEVENT
END:VCALENDAR