BEGIN:VCALENDAR
VERSION:2.0
PRODID:-//eventon.com NONSGML v1.0//EN
CALSCALE:GREGORIAN
METHOD:PUBLISH
BEGIN:VEVENT
UID:69e72bd3a33dd
DTSTAMP:20260421T074835Z
DTSTART:20251003T160000Z
DTEND:20251003T170000Z
LOCATION:
SUMMARY:CAREER DEVELOPMENT SERIES – Roots & Routes: Supporting Career Aspirations of Rural Appalachian Students
DESCRIPTION:For the 2025-2026 school year\,  SOCHE will host a special Care
 er Development Series of virtual presentations that is designed to support 
 higher education personnel as they help develop the Workforce of Tomorrow. 
 The first session of the SOCHE Career Development Series will be “Roots &
 amp; Routes: Supporting Career Aspirations of[..]\nhttps://www.soche.org/ev
 ent/career-dev-supporting-career-aspirations-appalachian-students/
URL:https://www.soche.org/event/career-dev-supporting-career-aspirations-appalachian-students/
END:VEVENT
END:VCALENDAR