BEGIN:VCALENDAR
VERSION:2.0
PRODID:-//eventon.com NONSGML v1.0//EN
CALSCALE:GREGORIAN
METHOD:PUBLISH
BEGIN:VEVENT
UID:69e7409a01622
DTSTAMP:20260421T091714Z
DTSTART:20250319T160000Z
DTEND:20250319T170000Z
LOCATION:
SUMMARY:LUNCH AND LEARN - SOCHE 101: Who We Are\,  How We Can Help (Spring 2025)
DESCRIPTION:This is a repeat of the lunch and learn that was presented on T
 uesday\,  Oct. 29. Sure\,  you’ve heard of Strategic Ohio Council for Hig
 her Education (SOCHE)\,  but do you know what we are really about? Some of 
 you have heard we offer internships for college and high school students.[.
 .]\nhttps://www.soche.org/event/lunch-and-learn-soche-101-who-we-are-how-we
 -can-help-spring-2025/
URL:https://www.soche.org/event/lunch-and-learn-soche-101-who-we-are-how-we-can-help-spring-2025/
END:VEVENT
END:VCALENDAR