BEGIN:VCALENDAR
VERSION:2.0
PRODID:-//eventon.com NONSGML v1.0//EN
CALSCALE:GREGORIAN
METHOD:PUBLISH
BEGIN:VEVENT
UID:69e755323d2c8
DTSTAMP:20260421T104506Z
DTSTART:20240419T123000Z
DTEND:20240419T154500Z
LOCATION:
SUMMARY:2024 SOCHE Library Conference
DESCRIPTION:The Strategic Ohio Council for Higher Education (SOCHE) is plea
 sed to announce the 2024 Library Conference\,  a virtual event that will be
  held on Friday\,  April 19\,  from 8:30-11:45 a.m. ET. This year’s theme
  is “Shifting Perspectives.” We are bringing together library professio
 nals from across the region to discuss what[..]\nhttps://www.soche.org/even
 t/2024-soche-library-conference/
URL:https://www.soche.org/event/2024-soche-library-conference/
END:VEVENT
END:VCALENDAR